BEGIN:VCALENDAR
VERSION:2.0
PRODID:-//Rockingham Community College - ECPv6.15.20//NONSGML v1.0//EN
CALSCALE:GREGORIAN
METHOD:PUBLISH
X-ORIGINAL-URL:https://rockinghamcc.edu
X-WR-CALDESC:Events for Rockingham Community College
REFRESH-INTERVAL;VALUE=DURATION:PT1H
X-Robots-Tag:noindex
X-PUBLISHED-TTL:PT1H
BEGIN:VTIMEZONE
TZID:America/New_York
BEGIN:DAYLIGHT
TZOFFSETFROM:-0500
TZOFFSETTO:-0400
TZNAME:EDT
DTSTART:20220313T070000
END:DAYLIGHT
BEGIN:STANDARD
TZOFFSETFROM:-0400
TZOFFSETTO:-0500
TZNAME:EST
DTSTART:20221106T060000
END:STANDARD
BEGIN:DAYLIGHT
TZOFFSETFROM:-0500
TZOFFSETTO:-0400
TZNAME:EDT
DTSTART:20230312T070000
END:DAYLIGHT
BEGIN:STANDARD
TZOFFSETFROM:-0400
TZOFFSETTO:-0500
TZNAME:EST
DTSTART:20231105T060000
END:STANDARD
BEGIN:DAYLIGHT
TZOFFSETFROM:-0500
TZOFFSETTO:-0400
TZNAME:EDT
DTSTART:20240310T070000
END:DAYLIGHT
BEGIN:STANDARD
TZOFFSETFROM:-0400
TZOFFSETTO:-0500
TZNAME:EST
DTSTART:20241103T060000
END:STANDARD
BEGIN:DAYLIGHT
TZOFFSETFROM:-0500
TZOFFSETTO:-0400
TZNAME:EDT
DTSTART:20250309T070000
END:DAYLIGHT
BEGIN:STANDARD
TZOFFSETFROM:-0400
TZOFFSETTO:-0500
TZNAME:EST
DTSTART:20251102T060000
END:STANDARD
BEGIN:DAYLIGHT
TZOFFSETFROM:-0500
TZOFFSETTO:-0400
TZNAME:EDT
DTSTART:20260308T070000
END:DAYLIGHT
BEGIN:STANDARD
TZOFFSETFROM:-0400
TZOFFSETTO:-0500
TZNAME:EST
DTSTART:20261101T060000
END:STANDARD
BEGIN:DAYLIGHT
TZOFFSETFROM:-0500
TZOFFSETTO:-0400
TZNAME:EDT
DTSTART:20270314T070000
END:DAYLIGHT
BEGIN:STANDARD
TZOFFSETFROM:-0400
TZOFFSETTO:-0500
TZNAME:EST
DTSTART:20271107T060000
END:STANDARD
END:VTIMEZONE
BEGIN:VEVENT
DTSTART;TZID=America/New_York:20260212T100000
DTEND;TZID=America/New_York:20260212T120000
DTSTAMP:20260424T101259
CREATED:20260105T220243Z
LAST-MODIFIED:20260105T220243Z
UID:10000306-1770890400-1770897600@rockinghamcc.edu
SUMMARY:Valentine's Shop
DESCRIPTION:Create your own flower bouquet\, browse handmade items from RCC clubs\, and support talented student crafters selling unique gifts. \nStop by\, shop local\, and spread a little Valentine’s cheer on campus!
URL:https://rockinghamcc.edu/event/valentines-shop/
LOCATION:Whitcomb Student Center Activity Room\, Wentworth\, NC
CATEGORIES:RCC Event
END:VEVENT
BEGIN:VEVENT
DTSTART;TZID=America/New_York:20260127T180000
DTEND;TZID=America/New_York:20260127T203000
DTSTAMP:20260424T101259
CREATED:20260105T220442Z
LAST-MODIFIED:20260105T220442Z
UID:10000307-1769536800-1769545800@rockinghamcc.edu
SUMMARY:Rockingham County Democratic Party
DESCRIPTION:The Rockingham County Democratic Party’s monthly meeting will be held in RCC’s Whitcomb Student Center Activity Room.
URL:https://rockinghamcc.edu/event/rockingham-county-democratic-party-3/
LOCATION:Whitcomb Student Center Activity Room\, Wentworth\, NC
CATEGORIES:Outside Group
END:VEVENT
BEGIN:VEVENT
DTSTART;TZID=America/New_York:20260115T100000
DTEND;TZID=America/New_York:20260115T140000
DTSTAMP:20260424T101259
CREATED:20260105T220020Z
LAST-MODIFIED:20260105T220109Z
UID:10000305-1768471200-1768485600@rockinghamcc.edu
SUMMARY:RCC Student Services Fair
DESCRIPTION:The RCC Student Services Fair has booths set up representing all of the resources the College has to help students in their academic journey. \nMore information to come in your email.
URL:https://rockinghamcc.edu/event/rcc-student-services-fair-2/
LOCATION:Whitcomb Student Center Activity Room\, Wentworth\, NC
CATEGORIES:RCC Event
END:VEVENT
BEGIN:VEVENT
DTSTART;TZID=America/New_York:20251113T180000
DTEND;TZID=America/New_York:20251113T193000
DTSTAMP:20260424T101259
CREATED:20251028T192347Z
LAST-MODIFIED:20251028T192434Z
UID:10000299-1763056800-1763062200@rockinghamcc.edu
SUMMARY:Habitat for Humanity of Greater Greensboro & Reidsville
DESCRIPTION:Habitat for Humanity of Greater Greensboro & Reidsville will hold an informational session about their affordable homeownership program.  \nIt will be held downstairs in the Whitcomb Student Center.
URL:https://rockinghamcc.edu/event/habitat-for-humanity-of-greater-greensboro-reidsville-2/
LOCATION:Whitcomb Student Center Activity Room\, Wentworth\, NC
CATEGORIES:Outside Group
END:VEVENT
BEGIN:VEVENT
DTSTART;TZID=America/New_York:20251106T110000
DTEND;TZID=America/New_York:20251106T130000
DTSTAMP:20260424T101259
CREATED:20251028T194308Z
LAST-MODIFIED:20251028T194328Z
UID:10000302-1762426800-1762434000@rockinghamcc.edu
SUMMARY:Student Life Stress Less Event
DESCRIPTION:Join RCC Student Life for a relaxing “Stress Less” event where you can create your own Stress Less Kit to help you recharge and refocus.
URL:https://rockinghamcc.edu/event/student-life-stress-less-event/
LOCATION:Whitcomb Student Center Activity Room\, Wentworth\, NC
CATEGORIES:RCC Event
ORGANIZER;CN="RCC Student Life":MAILTO:thomass9332@rockinghamcc.edu
END:VEVENT
BEGIN:VEVENT
DTSTART;TZID=America/New_York:20251023T100000
DTEND;TZID=America/New_York:20251023T120000
DTSTAMP:20260424T101259
CREATED:20251014T172051Z
LAST-MODIFIED:20251014T172332Z
UID:10000290-1761213600-1761220800@rockinghamcc.edu
SUMMARY:Pumpkin Painting
DESCRIPTION:Students are invited to come out and decorate small fake pumpkins and enjoy some Halloween fun!
URL:https://rockinghamcc.edu/event/pumpkin-painting/
LOCATION:Whitcomb Student Center Activity Room\, Wentworth\, NC
CATEGORIES:RCC Event
END:VEVENT
BEGIN:VEVENT
DTSTART;TZID=America/New_York:20250917T120000
DTEND;TZID=America/New_York:20250917T130000
DTSTAMP:20260424T101259
CREATED:20250825T123731Z
LAST-MODIFIED:20250825T124054Z
UID:10000284-1758110400-1758114000@rockinghamcc.edu
SUMMARY:Constitution Day Trivia
DESCRIPTION:Join the RCC Library for Constitution Day Trivia. \nWin prizes by showing off your knowledge of the U.S. Constitution.
URL:https://rockinghamcc.edu/event/constitution-day-trivia/
LOCATION:Whitcomb Student Center Activity Room\, Wentworth\, NC
CATEGORIES:RCC Event
END:VEVENT
BEGIN:VEVENT
DTSTART;TZID=America/New_York:20250903T100000
DTEND;TZID=America/New_York:20250903T140000
DTSTAMP:20260424T101259
CREATED:20250825T123234Z
LAST-MODIFIED:20250825T123409Z
UID:10000282-1756893600-1756908000@rockinghamcc.edu
SUMMARY:RCC Student Services Fair
DESCRIPTION:The RCC Student Services Fair has booths set up representing all of the resources the College has to help students in their academic journey. \nMore information to come in your email.
URL:https://rockinghamcc.edu/event/rcc-student-services-fair/
LOCATION:Whitcomb Student Center Activity Room\, Wentworth\, NC
CATEGORIES:RCC Event
END:VEVENT
BEGIN:VEVENT
DTSTART;TZID=America/New_York:20241203T123000
DTEND;TZID=America/New_York:20241203T133000
DTSTAMP:20260424T101259
CREATED:20241031T145500Z
LAST-MODIFIED:20241031T145500Z
UID:10000191-1733229000-1733232600@rockinghamcc.edu
SUMMARY:Music Club
DESCRIPTION:The Music Club will host an Open Mic Lunch. \nWant to join the email list? Email Benjamin Crouch at crouchb6821@rockinghamcc.edu
URL:https://rockinghamcc.edu/event/music-club-3/
LOCATION:Whitcomb Student Center Activity Room\, Wentworth\, NC
CATEGORIES:RCC Event
END:VEVENT
BEGIN:VEVENT
DTSTART;TZID=America/New_York:20241120T130000
DTEND;TZID=America/New_York:20241120T153000
DTSTAMP:20260424T101259
CREATED:20241031T145344Z
LAST-MODIFIED:20241031T145344Z
UID:10000190-1732107600-1732116600@rockinghamcc.edu
SUMMARY:Music Club
DESCRIPTION:The Music Club has several events this fall\, in the Whitcomb Student Center Activity Room. \nWednesday\, Nov. 20 from 1-3:30 p.m. – Music Club meeting \nTuesday\, Dec. 3 from 12:30-1:30 – Open Mic Lunch \nWant to join the email list? Email Benjamin Crouch at crouchb6821@rockinghamcc.edu
URL:https://rockinghamcc.edu/event/music-club-2/
LOCATION:Whitcomb Student Center Activity Room\, Wentworth\, NC
CATEGORIES:RCC Event
END:VEVENT
BEGIN:VEVENT
DTSTART;TZID=America/New_York:20241105T130000
DTEND;TZID=America/New_York:20241105T150000
DTSTAMP:20260424T101259
CREATED:20241031T145257Z
LAST-MODIFIED:20241031T145628Z
UID:10000189-1730811600-1730818800@rockinghamcc.edu
SUMMARY:Music Club
DESCRIPTION:The Music Club has several events this fall\, in the Whitcomb Student Center Activity Room. \nTuesday\, Nov. 5 from 1-3 p.m. – Music Club meeting \nWednesday\, Nov. 20 from 1-3:30 p.m. – Music Club meeting \nTuesday\, Dec. 3 from 12:30-1:30 – Open Mic Lunch \nWant to join the email list? Email Benjamin Crouch at crouchb6821@rockinghamcc.edu
URL:https://rockinghamcc.edu/event/music-club/
LOCATION:Whitcomb Student Center Activity Room\, Wentworth\, NC
CATEGORIES:RCC Event
END:VEVENT
BEGIN:VEVENT
DTSTART;TZID=America/New_York:20240426T100000
DTEND;TZID=America/New_York:20240426T170000
DTSTAMP:20260424T101259
CREATED:20240319T122434Z
LAST-MODIFIED:20240319T122434Z
UID:10000087-1714125600-1714150800@rockinghamcc.edu
SUMMARY:Fine Arts Festival
DESCRIPTION:The 80th annual Fine Arts Festival showcases the art\, music\, poetry and prose of creative people who live or work in Rockingham County. \nIt is free and open to the public. \nSunday\, April 21 – an awards ceremony will be held at 3 p.m. in the Advanced Technologies Building (ADT) auditorium\, located at 560 County Home Road Wentworth. The show will officially open following the ceremony\, at 6 p.m.\, downstairs in the Whitcomb Student Center\, located at 484 County Home Road\, Wentworth. \nMonday-Thursday\, April 22-25\, the show is open from 10 a.m.-6 p.m. \nFriday\, April 26\, the show is open from 10 a.m.-5 p.m. At closure\, an open meeting will be held by the Fine Arts Festival Association board\, and then artists will pick up their art. \n 
URL:https://rockinghamcc.edu/event/fine-arts-festival/2024-04-26/
LOCATION:Whitcomb Student Center Activity Room\, Wentworth\, NC
ORGANIZER;CN="Fine Arts Festival Assocation of Rockingham County":MAILTO:fineartsfestival1741@gmail.com
END:VEVENT
BEGIN:VEVENT
DTSTART;TZID=America/New_York:20240425T100000
DTEND;TZID=America/New_York:20240425T180000
DTSTAMP:20260424T101259
CREATED:20240319T122434Z
LAST-MODIFIED:20240319T122434Z
UID:10000086-1714039200-1714068000@rockinghamcc.edu
SUMMARY:Fine Arts Festival
DESCRIPTION:The 80th annual Fine Arts Festival showcases the art\, music\, poetry and prose of creative people who live or work in Rockingham County. \nIt is free and open to the public. \nSunday\, April 21 – an awards ceremony will be held at 3 p.m. in the Advanced Technologies Building (ADT) auditorium\, located at 560 County Home Road Wentworth. The show will officially open following the ceremony\, at 6 p.m.\, downstairs in the Whitcomb Student Center\, located at 484 County Home Road\, Wentworth. \nMonday-Thursday\, April 22-25\, the show is open from 10 a.m.-6 p.m. \nFriday\, April 26\, the show is open from 10 a.m.-5 p.m. At closure\, an open meeting will be held by the Fine Arts Festival Association board\, and then artists will pick up their art. \n 
URL:https://rockinghamcc.edu/event/fine-arts-festival/2024-04-25/
LOCATION:Whitcomb Student Center Activity Room\, Wentworth\, NC
ORGANIZER;CN="Fine Arts Festival Assocation of Rockingham County":MAILTO:fineartsfestival1741@gmail.com
END:VEVENT
BEGIN:VEVENT
DTSTART;TZID=America/New_York:20240424T100000
DTEND;TZID=America/New_York:20240424T180000
DTSTAMP:20260424T101259
CREATED:20240319T122434Z
LAST-MODIFIED:20240319T122434Z
UID:10000085-1713952800-1713981600@rockinghamcc.edu
SUMMARY:Fine Arts Festival
DESCRIPTION:The 80th annual Fine Arts Festival showcases the art\, music\, poetry and prose of creative people who live or work in Rockingham County. \nIt is free and open to the public. \nSunday\, April 21 – an awards ceremony will be held at 3 p.m. in the Advanced Technologies Building (ADT) auditorium\, located at 560 County Home Road Wentworth. The show will officially open following the ceremony\, at 6 p.m.\, downstairs in the Whitcomb Student Center\, located at 484 County Home Road\, Wentworth. \nMonday-Thursday\, April 22-25\, the show is open from 10 a.m.-6 p.m. \nFriday\, April 26\, the show is open from 10 a.m.-5 p.m. At closure\, an open meeting will be held by the Fine Arts Festival Association board\, and then artists will pick up their art. \n 
URL:https://rockinghamcc.edu/event/fine-arts-festival/2024-04-24/
LOCATION:Whitcomb Student Center Activity Room\, Wentworth\, NC
ORGANIZER;CN="Fine Arts Festival Assocation of Rockingham County":MAILTO:fineartsfestival1741@gmail.com
END:VEVENT
BEGIN:VEVENT
DTSTART;TZID=America/New_York:20240423T100000
DTEND;TZID=America/New_York:20240423T180000
DTSTAMP:20260424T101259
CREATED:20240319T122434Z
LAST-MODIFIED:20240319T122434Z
UID:10000084-1713866400-1713895200@rockinghamcc.edu
SUMMARY:Fine Arts Festival
DESCRIPTION:The 80th annual Fine Arts Festival showcases the art\, music\, poetry and prose of creative people who live or work in Rockingham County. \nIt is free and open to the public. \nSunday\, April 21 – an awards ceremony will be held at 3 p.m. in the Advanced Technologies Building (ADT) auditorium\, located at 560 County Home Road Wentworth. The show will officially open following the ceremony\, at 6 p.m.\, downstairs in the Whitcomb Student Center\, located at 484 County Home Road\, Wentworth. \nMonday-Thursday\, April 22-25\, the show is open from 10 a.m.-6 p.m. \nFriday\, April 26\, the show is open from 10 a.m.-5 p.m. At closure\, an open meeting will be held by the Fine Arts Festival Association board\, and then artists will pick up their art. \n 
URL:https://rockinghamcc.edu/event/fine-arts-festival/2024-04-23/
LOCATION:Whitcomb Student Center Activity Room\, Wentworth\, NC
ORGANIZER;CN="Fine Arts Festival Assocation of Rockingham County":MAILTO:fineartsfestival1741@gmail.com
END:VEVENT
BEGIN:VEVENT
DTSTART;TZID=America/New_York:20240422T100000
DTEND;TZID=America/New_York:20240422T180000
DTSTAMP:20260424T101259
CREATED:20240319T122434Z
LAST-MODIFIED:20240319T122434Z
UID:10000083-1713780000-1713808800@rockinghamcc.edu
SUMMARY:Fine Arts Festival
DESCRIPTION:The 80th annual Fine Arts Festival showcases the art\, music\, poetry and prose of creative people who live or work in Rockingham County. \nIt is free and open to the public. \nSunday\, April 21 – an awards ceremony will be held at 3 p.m. in the Advanced Technologies Building (ADT) auditorium\, located at 560 County Home Road Wentworth. The show will officially open following the ceremony\, at 6 p.m.\, downstairs in the Whitcomb Student Center\, located at 484 County Home Road\, Wentworth. \nMonday-Thursday\, April 22-25\, the show is open from 10 a.m.-6 p.m. \nFriday\, April 26\, the show is open from 10 a.m.-5 p.m. At closure\, an open meeting will be held by the Fine Arts Festival Association board\, and then artists will pick up their art. \n 
URL:https://rockinghamcc.edu/event/fine-arts-festival/2024-04-22/
LOCATION:Whitcomb Student Center Activity Room\, Wentworth\, NC
ORGANIZER;CN="Fine Arts Festival Assocation of Rockingham County":MAILTO:fineartsfestival1741@gmail.com
END:VEVENT
BEGIN:VEVENT
DTSTART;TZID=America/New_York:20240421T180000
DTEND;TZID=America/New_York:20240421T210000
DTSTAMP:20260424T101259
CREATED:20240319T122434Z
LAST-MODIFIED:20240319T122434Z
UID:10000082-1713722400-1713733200@rockinghamcc.edu
SUMMARY:Fine Arts Festival
DESCRIPTION:The 80th annual Fine Arts Festival showcases the art\, music\, poetry and prose of creative people who live or work in Rockingham County. \nIt is free and open to the public. \nSunday\, April 21 – an awards ceremony will be held at 3 p.m. in the Advanced Technologies Building (ADT) auditorium\, located at 560 County Home Road Wentworth. The show will officially open following the ceremony\, at 6 p.m.\, downstairs in the Whitcomb Student Center\, located at 484 County Home Road\, Wentworth. \nMonday-Thursday\, April 22-25\, the show is open from 10 a.m.-6 p.m. \nFriday\, April 26\, the show is open from 10 a.m.-5 p.m. At closure\, an open meeting will be held by the Fine Arts Festival Association board\, and then artists will pick up their art. \n 
URL:https://rockinghamcc.edu/event/fine-arts-festival/2024-04-21/
LOCATION:Whitcomb Student Center Activity Room\, Wentworth\, NC
ORGANIZER;CN="Fine Arts Festival Assocation of Rockingham County":MAILTO:fineartsfestival1741@gmail.com
END:VEVENT
BEGIN:VEVENT
DTSTART;TZID=America/New_York:20240411T110000
DTEND;TZID=America/New_York:20240411T183000
DTSTAMP:20260424T101259
CREATED:20240318T205148Z
LAST-MODIFIED:20240318T205148Z
UID:10000079-1712833200-1712860200@rockinghamcc.edu
SUMMARY:Fine Arts Fest - Art Take-In
DESCRIPTION:The Fine Arts Festival Association of Rockingham County will be set up in the Whitcomb Student Center Activity Room to accept artwork entries for this year’s Fine Arts Festival. \nEntrants must be at least 16 years old and older. Entrants must live\, work\, or attend school in Rockingham County. \nCategories: Acrylic\, Digital Art\, Drawing/Printmaking\, Fiber\, Jewelry\, Mixed Media\, Oil\, Pastel\, Photography – Black and White\, Photography – Color\, Pottery\, Sculpture\, Watercolor\, Wood Turning\, Woodworking \n$5 per entry \n 
URL:https://rockinghamcc.edu/event/fine-arts-fest-art-take-in/
LOCATION:Whitcomb Student Center Activity Room\, Wentworth\, NC
ORGANIZER;CN="Fine Arts Festival Assocation of Rockingham County":MAILTO:fineartsfestival1741@gmail.com
END:VEVENT
BEGIN:VEVENT
DTSTART;TZID=America/New_York:20231102T120000
DTEND;TZID=America/New_York:20231102T130000
DTSTAMP:20260424T101259
CREATED:20230925T155523Z
LAST-MODIFIED:20230925T155523Z
UID:10000062-1698926400-1698930000@rockinghamcc.edu
SUMMARY:SGA General Assembly
DESCRIPTION:The Student Government Association holds a monthly General Assembly meeting. A representative from every club on campus must attend\, and the meeting is open to all RCC students and employees.
URL:https://rockinghamcc.edu/event/sga-general-assembly-2/
LOCATION:Whitcomb Student Center Activity Room\, Wentworth\, NC
END:VEVENT
BEGIN:VEVENT
DTSTART;TZID=America/New_York:20231005T120000
DTEND;TZID=America/New_York:20231005T130000
DTSTAMP:20260424T101259
CREATED:20230925T155439Z
LAST-MODIFIED:20230925T155439Z
UID:10000061-1696507200-1696510800@rockinghamcc.edu
SUMMARY:SGA General Assembly
DESCRIPTION:The Student Government Association holds a monthly General Assembly meeting. A representative from every club on campus must attend\, and the meeting is open to all RCC students and employees.
URL:https://rockinghamcc.edu/event/sga-general-assembly/
LOCATION:Whitcomb Student Center Activity Room\, Wentworth\, NC
END:VEVENT
END:VCALENDAR