BEGIN:VCALENDAR
VERSION:2.0
PRODID:-//Rockingham Community College - ECPv6.15.20//NONSGML v1.0//EN
CALSCALE:GREGORIAN
METHOD:PUBLISH
X-WR-CALNAME:Rockingham Community College
X-ORIGINAL-URL:https://rockinghamcc.edu
X-WR-CALDESC:Events for Rockingham Community College
REFRESH-INTERVAL;VALUE=DURATION:PT1H
X-Robots-Tag:noindex
X-PUBLISHED-TTL:PT1H
BEGIN:VTIMEZONE
TZID:America/New_York
BEGIN:DAYLIGHT
TZOFFSETFROM:-0500
TZOFFSETTO:-0400
TZNAME:EDT
DTSTART:20250309T070000
END:DAYLIGHT
BEGIN:STANDARD
TZOFFSETFROM:-0400
TZOFFSETTO:-0500
TZNAME:EST
DTSTART:20251102T060000
END:STANDARD
BEGIN:DAYLIGHT
TZOFFSETFROM:-0500
TZOFFSETTO:-0400
TZNAME:EDT
DTSTART:20260308T070000
END:DAYLIGHT
BEGIN:STANDARD
TZOFFSETFROM:-0400
TZOFFSETTO:-0500
TZNAME:EST
DTSTART:20261101T060000
END:STANDARD
BEGIN:DAYLIGHT
TZOFFSETFROM:-0500
TZOFFSETTO:-0400
TZNAME:EDT
DTSTART:20270314T070000
END:DAYLIGHT
BEGIN:STANDARD
TZOFFSETFROM:-0400
TZOFFSETTO:-0500
TZNAME:EST
DTSTART:20271107T060000
END:STANDARD
END:VTIMEZONE
BEGIN:VEVENT
DTSTART;TZID=America/New_York:20260427T100000
DTEND;TZID=America/New_York:20260427T113000
DTSTAMP:20260424T065514
CREATED:20260216T132326Z
LAST-MODIFIED:20260216T132327Z
UID:10000316-1777284000-1777289400@rockinghamcc.edu
SUMMARY:Prompt Project
DESCRIPTION:Relax\, write\, and participate in fun activities at The Prompt Project with Mental Health Counselor Debbie Freitag. \nHappens the last Monday of each month in the Activity Room\, lower level of Whitcomb.
URL:https://rockinghamcc.edu/event/prompt-project/2026-04-27/
LOCATION:Whitcomb Student Center Activity Room\, Wentworth\, NC
CATEGORIES:Health,RCC Event
ORGANIZER;CN="RCC Student Life":MAILTO:thomass9332@rockinghamcc.edu
END:VEVENT
END:VCALENDAR