BEGIN:VCALENDAR
VERSION:2.0
PRODID:-//Rockingham Community College - ECPv6.15.20//NONSGML v1.0//EN
CALSCALE:GREGORIAN
METHOD:PUBLISH
X-ORIGINAL-URL:https://rockinghamcc.edu
X-WR-CALDESC:Events for Rockingham Community College
REFRESH-INTERVAL;VALUE=DURATION:PT1H
X-Robots-Tag:noindex
X-PUBLISHED-TTL:PT1H
BEGIN:VTIMEZONE
TZID:America/New_York
BEGIN:DAYLIGHT
TZOFFSETFROM:-0500
TZOFFSETTO:-0400
TZNAME:EDT
DTSTART:20250309T070000
END:DAYLIGHT
BEGIN:STANDARD
TZOFFSETFROM:-0400
TZOFFSETTO:-0500
TZNAME:EST
DTSTART:20251102T060000
END:STANDARD
BEGIN:DAYLIGHT
TZOFFSETFROM:-0500
TZOFFSETTO:-0400
TZNAME:EDT
DTSTART:20260308T070000
END:DAYLIGHT
BEGIN:STANDARD
TZOFFSETFROM:-0400
TZOFFSETTO:-0500
TZNAME:EST
DTSTART:20261101T060000
END:STANDARD
BEGIN:DAYLIGHT
TZOFFSETFROM:-0500
TZOFFSETTO:-0400
TZNAME:EDT
DTSTART:20270314T070000
END:DAYLIGHT
BEGIN:STANDARD
TZOFFSETFROM:-0400
TZOFFSETTO:-0500
TZNAME:EST
DTSTART:20271107T060000
END:STANDARD
END:VTIMEZONE
BEGIN:VEVENT
DTSTART;TZID=America/New_York:20260305T120000
DTEND;TZID=America/New_York:20260305T130000
DTSTAMP:20260424T000300
CREATED:20260216T131257Z
LAST-MODIFIED:20260216T131307Z
UID:10000310-1772712000-1772715600@rockinghamcc.edu
SUMMARY:SECU Identity Theft Prevention and Consumer Fraud
DESCRIPTION:Learn how to avoid ID theft by identifying the red flags and detecting potential scams. \nEvent will be held in ADT 105.
URL:https://rockinghamcc.edu/event/secu-identity-theft-prevention-and-consumer-fraud/
LOCATION:Advanced Technologies Building\, 560 County Home Road\, Wentworth\, 27375\, United States
CATEGORIES:RCC Event
END:VEVENT
BEGIN:VEVENT
DTSTART;TZID=America/New_York:20260306T180000
DTEND;TZID=America/New_York:20260306T193000
DTSTAMP:20260424T000300
CREATED:20241031T150417Z
LAST-MODIFIED:20251014T171905Z
UID:10000192-1772820000-1772825400@rockinghamcc.edu
SUMMARY:Paramedic Pinning
DESCRIPTION:Paramedic graduate pinning ceremony for the 2025-2026 Paramedic Cohort.
URL:https://rockinghamcc.edu/event/paramedic-pinning/
LOCATION:Advanced Technologies Auditorium\, 560 County Home Road\, Wentworth\, NC\, 27320
CATEGORIES:RCC Event
END:VEVENT
BEGIN:VEVENT
DTSTART;TZID=America/New_York:20260307T080000
DTEND;TZID=America/New_York:20260307T130000
DTSTAMP:20260424T000300
CREATED:20260216T133233Z
LAST-MODIFIED:20260216T133332Z
UID:10000318-1772870400-1772888400@rockinghamcc.edu
SUMMARY:Rockingham GOP Convention
DESCRIPTION:Rockingham County Republican Party’s annual convention
URL:https://rockinghamcc.edu/event/rockingham-gop-convention/
LOCATION:Whitcomb Student Center Activity Room\, Wentworth\, NC
CATEGORIES:Outside Group
ORGANIZER;CN="Rockingham County Republican Party":MAILTO:rockingham@nc.gop
END:VEVENT
BEGIN:VEVENT
DTSTART;VALUE=DATE:20260309
DTEND;VALUE=DATE:20260314
DTSTAMP:20260424T000300
CREATED:20250728T154438Z
LAST-MODIFIED:20250728T154438Z
UID:10000279-1773014400-1773446399@rockinghamcc.edu
SUMMARY:Spring Break
DESCRIPTION:Spring break for students and faculty is March 9-13.\nCampus is open all week\, with staff here to serve the needs of the community\, including registering for summer classes.
URL:https://rockinghamcc.edu/event/spring-break-2/
CATEGORIES:RCC Event
END:VEVENT
BEGIN:VEVENT
DTSTART;TZID=America/New_York:20260316T074500
DTEND;TZID=America/New_York:20260319T180000
DTSTAMP:20260424T000300
CREATED:20260313T145808Z
LAST-MODIFIED:20260313T145808Z
UID:10000328-1773647100-1773943200@rockinghamcc.edu
SUMMARY:Limits of Freedom Exhibit
DESCRIPTION:   Limits of Freedom  \, a traveling  exhibit developed by UNC Greensboro Department of History\, will be on display in the James Library from March 16 through April 3.        Limits of Freedom explores the lives of enslaved and free African Americans in Guilford and Rockingham Counties from the colonial period through emancipation. Their experiences\, from service in the Revolutionary War to work along the Dan River\, illustrate the lived reality of people during a time of slavery. Drawing on archival records\, maps\, and oral history\, the exhibit highlights the central role African Americans played in shaping the nation—despite being denied the very freedoms the country proclaimed.        Part of the America 250 NC initiative commemorating the 250th anniversary of American Independence\, the exhibit encourages visitors to reflect on the contradictions between liberty and slavery and to engage with local history in meaningful ways.        The exhibit is free and open to the public during regular library hours. Faculty\, staff\, and students are encouraged to visit. The library is open 7:45 a.m.-6 p.m. Mondays-Thursdays\, and 7:45 a.m.-3 p.m. Fridays.        Also\, please join us March 30\, at 2:00 p.m.  for a curator talk with Dr. David McKenzie and Jada Denny of UNCG. Denny is an alumna of Rockingham Early College High School.
URL:https://rockinghamcc.edu/event/limits-of-freedom-exhibit/
LOCATION:Gerald James Library\, 315 Wrenn Memorial Road\, Wentworth
CATEGORIES:Outside Group
END:VEVENT
BEGIN:VEVENT
DTSTART;TZID=America/New_York:20260317T150000
DTEND;TZID=America/New_York:20260317T170000
DTSTAMP:20260424T000300
CREATED:20250708T131543Z
LAST-MODIFIED:20250728T154954Z
UID:10000095-1773759600-1773766800@rockinghamcc.edu
SUMMARY:Board of Trustees
DESCRIPTION:This is a regularly scheduled meeting of the College’s  Board of Trustees. \nThe agenda is posted online prior to the meeting\, in the  News section of the website. \nThe meeting is open to the public.
URL:https://rockinghamcc.edu/event/board-of-trustees/
LOCATION:Gwyn Boardroom\, 215 Wrenn Memorial Rd\, Wentworth\, NC\, 27375\, United States
CATEGORIES:RCC Event
END:VEVENT
BEGIN:VEVENT
DTSTART;TZID=America/New_York:20260319T170000
DTEND;TZID=America/New_York:20260319T210000
DTSTAMP:20260424T000300
CREATED:20260216T131537Z
LAST-MODIFIED:20260216T131537Z
UID:10000311-1773939600-1773954000@rockinghamcc.edu
SUMMARY:College Night
DESCRIPTION:High school seniors and parents guardians\, come receive assistance with applying to RCC\, and filling out the FAFSA!  \nDinner will be served. \nLink to register for an appointment coming soon.
URL:https://rockinghamcc.edu/event/college-night/
LOCATION:Center for Workforce Development\, 184 Wrenn Memorial Road\, Wentworth\, NC\, 27375\, United States
CATEGORIES:RCC Event
END:VEVENT
BEGIN:VEVENT
DTSTART;TZID=America/New_York:20260320T074500
DTEND;TZID=America/New_York:20260320T150000
DTSTAMP:20260424T000300
CREATED:20260313T145929Z
LAST-MODIFIED:20260313T145929Z
UID:10000329-1773992700-1774018800@rockinghamcc.edu
SUMMARY:Limits of Freedom Exhibit
DESCRIPTION:Limits of Freedom  \, a traveling  exhibit developed by UNC Greensboro Department of History\, will be on display in the James Library from March 16 through April 3.        Limits of Freedom explores the lives of enslaved and free African Americans in Guilford and Rockingham Counties from the colonial period through emancipation. Their experiences\, from service in the Revolutionary War to work along the Dan River\, illustrate the lived reality of people during a time of slavery. Drawing on archival records\, maps\, and oral history\, the exhibit highlights the central role African Americans played in shaping the nation—despite being denied the very freedoms the country proclaimed.        Part of the America 250 NC initiative commemorating the 250th anniversary of American Independence\, the exhibit encourages visitors to reflect on the contradictions between liberty and slavery and to engage with local history in meaningful ways.        The exhibit is free and open to the public during regular library hours. Faculty\, staff\, and students are encouraged to visit. The library is open 7:45 a.m.-6 p.m. Mondays-Thursdays\, and 7:45 a.m.-3 p.m. Fridays.        Also\, please join us March 30\, at 2:00 p.m.  for a curator talk with Dr. David McKenzie and Jada Denny of UNCG. Denny is an alumna of Rockingham Early College High School.
URL:https://rockinghamcc.edu/event/limits-of-freedom-exhibit-2/
LOCATION:Gerald James Library\, 315 Wrenn Memorial Road\, Wentworth
CATEGORIES:Outside Group
END:VEVENT
BEGIN:VEVENT
DTSTART;TZID=America/New_York:20260323T074500
DTEND;TZID=America/New_York:20260326T180000
DTSTAMP:20260424T000300
CREATED:20260313T150159Z
LAST-MODIFIED:20260313T150159Z
UID:10000330-1774251900-1774548000@rockinghamcc.edu
SUMMARY:Limits of Freedom Exhibit
DESCRIPTION:   Limits of Freedom  \, a traveling  exhibit developed by UNC Greensboro Department of History\, will be on display in the James Library from March 16 through April 3.        Limits of Freedom explores the lives of enslaved and free African Americans in Guilford and Rockingham Counties from the colonial period through emancipation. Their experiences\, from service in the Revolutionary War to work along the Dan River\, illustrate the lived reality of people during a time of slavery. Drawing on archival records\, maps\, and oral history\, the exhibit highlights the central role African Americans played in shaping the nation—despite being denied the very freedoms the country proclaimed.        Part of the America 250 NC initiative commemorating the 250th anniversary of American Independence\, the exhibit encourages visitors to reflect on the contradictions between liberty and slavery and to engage with local history in meaningful ways.        The exhibit is free and open to the public during regular library hours. Faculty\, staff\, and students are encouraged to visit. The library is open 7:45 a.m.-6 p.m. Mondays-Thursdays\, and 7:45 a.m.-3 p.m. Fridays.        Also\, please join us March 30\, at 2:00 p.m.  for a curator talk with Dr. David McKenzie and Jada Denny of UNCG. Denny is an alumna of Rockingham Early College High School.
URL:https://rockinghamcc.edu/event/limits-of-freedom-exhibit-3/
LOCATION:Gerald James Library\, 315 Wrenn Memorial Road\, Wentworth
CATEGORIES:Outside Group
END:VEVENT
BEGIN:VEVENT
DTSTART;TZID=America/New_York:20260324T173000
DTEND;TZID=America/New_York:20260324T213000
DTSTAMP:20260424T000300
CREATED:20260216T131956Z
LAST-MODIFIED:20260216T132025Z
UID:10000313-1774373400-1774387800@rockinghamcc.edu
SUMMARY:Annual Democratic Party Convention
DESCRIPTION:The Rockingham County Democratic Party’s annual convention.
URL:https://rockinghamcc.edu/event/annual-democratic-party-convention/
LOCATION:Center for Workforce Development\, 184 Wrenn Memorial Road\, Wentworth\, NC\, 27375\, United States
CATEGORIES:Outside Group
END:VEVENT
BEGIN:VEVENT
DTSTART;TZID=America/New_York:20260327T074500
DTEND;TZID=America/New_York:20260327T150000
DTSTAMP:20260424T000301
CREATED:20260313T150354Z
LAST-MODIFIED:20260313T150354Z
UID:10000332-1774597500-1774623600@rockinghamcc.edu
SUMMARY:Limits of Freedom Exhibit
DESCRIPTION:Limits of Freedom  \, a traveling  exhibit developed by UNC Greensboro Department of History\, will be on display in the James Library from March 16 through April 3.        Limits of Freedom explores the lives of enslaved and free African Americans in Guilford and Rockingham Counties from the colonial period through emancipation. Their experiences\, from service in the Revolutionary War to work along the Dan River\, illustrate the lived reality of people during a time of slavery. Drawing on archival records\, maps\, and oral history\, the exhibit highlights the central role African Americans played in shaping the nation—despite being denied the very freedoms the country proclaimed.        Part of the America 250 NC initiative commemorating the 250th anniversary of American Independence\, the exhibit encourages visitors to reflect on the contradictions between liberty and slavery and to engage with local history in meaningful ways.        The exhibit is free and open to the public during regular library hours. Faculty\, staff\, and students are encouraged to visit. The library is open 7:45 a.m.-6 p.m. Mondays-Thursdays\, and 7:45 a.m.-3 p.m. Fridays.        Also\, please join us March 30\, at 2:00 p.m.  for a curator talk with Dr. David McKenzie and Jada Denny of UNCG. Denny is an alumna of Rockingham Early College High School.
URL:https://rockinghamcc.edu/event/limits-of-freedom-exhibit-5/
LOCATION:Gerald James Library\, 315 Wrenn Memorial Road\, Wentworth
CATEGORIES:Outside Group
END:VEVENT
BEGIN:VEVENT
DTSTART;TZID=America/New_York:20260330T074500
DTEND;TZID=America/New_York:20260402T180000
DTSTAMP:20260424T000301
CREATED:20260313T150239Z
LAST-MODIFIED:20260313T150239Z
UID:10000331-1774856700-1775152800@rockinghamcc.edu
SUMMARY:Limits of Freedom Exhibit
DESCRIPTION:   Limits of Freedom  \, a traveling  exhibit developed by UNC Greensboro Department of History\, will be on display in the James Library from March 16 through April 3.        Limits of Freedom explores the lives of enslaved and free African Americans in Guilford and Rockingham Counties from the colonial period through emancipation. Their experiences\, from service in the Revolutionary War to work along the Dan River\, illustrate the lived reality of people during a time of slavery. Drawing on archival records\, maps\, and oral history\, the exhibit highlights the central role African Americans played in shaping the nation—despite being denied the very freedoms the country proclaimed.        Part of the America 250 NC initiative commemorating the 250th anniversary of American Independence\, the exhibit encourages visitors to reflect on the contradictions between liberty and slavery and to engage with local history in meaningful ways.        The exhibit is free and open to the public during regular library hours. Faculty\, staff\, and students are encouraged to visit. The library is open 7:45 a.m.-6 p.m. Mondays-Thursdays\, and 7:45 a.m.-3 p.m. Fridays.        Also\, please join us March 30\, at 2:00 p.m.  for a curator talk with Dr. David McKenzie and Jada Denny of UNCG. Denny is an alumna of Rockingham Early College High School.
URL:https://rockinghamcc.edu/event/limits-of-freedom-exhibit-4/
LOCATION:Gerald James Library\, 315 Wrenn Memorial Road\, Wentworth
CATEGORIES:Outside Group
END:VEVENT
BEGIN:VEVENT
DTSTART;TZID=America/New_York:20260330T100000
DTEND;TZID=America/New_York:20260330T113000
DTSTAMP:20260424T000301
CREATED:20260216T132326Z
LAST-MODIFIED:20260216T132327Z
UID:10000315-1774864800-1774870200@rockinghamcc.edu
SUMMARY:Prompt Project
DESCRIPTION:Relax\, write\, and participate in fun activities at The Prompt Project with Mental Health Counselor Debbie Freitag. \nHappens the last Monday of each month in the Activity Room\, lower level of Whitcomb.
URL:https://rockinghamcc.edu/event/prompt-project/2026-03-30/
LOCATION:Whitcomb Student Center Activity Room\, Wentworth\, NC
CATEGORIES:Health,RCC Event
ORGANIZER;CN="RCC Student Life":MAILTO:thomass9332@rockinghamcc.edu
END:VEVENT
END:VCALENDAR